Package: NanoTube Version: 1.13.1 Maintainer: Caleb Class MaintainerEmail: cclass at butler.edu git_url: https://git.bioconductor.org/packages/NanoTube git_branch: devel git_last_commit: 86c2245 git_last_commit_date: 2025-01-24 13:48:36 -0500 (Fri, 24 Jan 2025)