Package: NanoTube Version: 1.13.1 Command: rm -rf NanoTube.buildbin-libdir && mkdir NanoTube.buildbin-libdir && /Users/biocbuild/BBS/utils/build-universal.sh NanoTube_1.13.1.tar.gz /Library/Frameworks/R.framework/Resources/bin/R NanoTube.buildbin-libdir StartedAt: 2025-02-09 22:23:23 -0500 (Sun, 09 Feb 2025) EndedAt: 2025-02-09 22:23:28 -0500 (Sun, 09 Feb 2025) EllapsedTime: 5.1 seconds RetCode: 0 Status: OK PackageFile: NanoTube_1.13.1.tgz PackageFileSize: 2.118 MiB