Package: NanoTube Version: 1.13.1 Command: /Library/Frameworks/R.framework/Resources/bin/R CMD build --keep-empty-dirs --no-resave-data NanoTube StartedAt: 2025-02-09 17:06:27 -0500 (Sun, 09 Feb 2025) EndedAt: 2025-02-09 17:06:44 -0500 (Sun, 09 Feb 2025) EllapsedTime: 17.2 seconds RetCode: 0 Status: OK PackageFile: NanoTube_1.13.1.tar.gz PackageFileSize: 2.007 MiB