Package: NanoTube Version: 1.13.1 Command: /Library/Frameworks/R.framework/Resources/bin/R CMD check --install=check:NanoTube.install-out.txt --library=/Library/Frameworks/R.framework/Resources/library --no-vignettes --timings NanoTube_1.13.1.tar.gz StartedAt: 2025-02-09 20:24:22 -0500 (Sun, 09 Feb 2025) EndedAt: 2025-02-09 20:25:01 -0500 (Sun, 09 Feb 2025) EllapsedTime: 38.4 seconds RetCode: 0 Status: OK CheckDir: NanoTube.Rcheck Warnings: 0