Package: NanoTube Version: 1.13.1 Command: /Library/Frameworks/R.framework/Resources/bin/R CMD INSTALL NanoTube StartedAt: 2025-02-09 15:22:41 -0500 (Sun, 09 Feb 2025) EndedAt: 2025-02-09 15:22:45 -0500 (Sun, 09 Feb 2025) EllapsedTime: 3.7 seconds RetCode: 0 Status: OK