Package: NanoTube Version: 1.13.1 Command: /home/biocbuild/R/R/bin/R CMD build --keep-empty-dirs --no-resave-data NanoTube StartedAt: 2025-01-29 00:48:22 -0000 (Wed, 29 Jan 2025) EndedAt: 2025-01-29 00:49:17 -0000 (Wed, 29 Jan 2025) EllapsedTime: 55.0 seconds RetCode: 0 Status: OK PackageFile: NanoTube_1.13.1.tar.gz PackageFileSize: 2.295 MiB