Package: NanoTube Version: 1.13.1 Command: /home/biocbuild/R/R/bin/R CMD check --install=check:NanoTube.install-out.txt --library=/home/biocbuild/R/R/site-library --no-vignettes --timings NanoTube_1.13.1.tar.gz StartedAt: 2025-01-28 13:11:59 -0000 (Tue, 28 Jan 2025) EndedAt: 2025-01-28 13:14:36 -0000 (Tue, 28 Jan 2025) EllapsedTime: 156.6 seconds RetCode: 0 Status: OK CheckDir: NanoTube.Rcheck Warnings: 0