Package: NanoTube Version: 1.13.1 Command: /home/biocbuild/R/R/bin/R CMD INSTALL NanoTube StartedAt: 2025-01-29 20:22:18 -0000 (Wed, 29 Jan 2025) EndedAt: 2025-01-29 20:22:32 -0000 (Wed, 29 Jan 2025) EllapsedTime: 13.5 seconds RetCode: 0 Status: OK