Package: NanoTube Version: 1.13.1 Command: rm -rf NanoTube.buildbin-libdir && mkdir NanoTube.buildbin-libdir && /Users/biocbuild/BBS/utils/build-universal.sh NanoTube_1.13.1.tar.gz /Library/Frameworks/R.framework/Resources/bin/R NanoTube.buildbin-libdir StartedAt: 2025-02-10 01:05:37 -0500 (Mon, 10 Feb 2025) EndedAt: 2025-02-10 01:05:55 -0500 (Mon, 10 Feb 2025) EllapsedTime: 17.4 seconds RetCode: 0 Status: OK PackageFile: NanoTube_1.13.1.tgz PackageFileSize: 2.116 MiB