Package: NanoTube Version: 1.13.1 Command: /Library/Frameworks/R.framework/Resources/bin/R CMD INSTALL NanoTube StartedAt: 2025-02-09 15:36:14 -0500 (Sun, 09 Feb 2025) EndedAt: 2025-02-09 15:36:29 -0500 (Sun, 09 Feb 2025) EllapsedTime: 15.3 seconds RetCode: 0 Status: OK