Package: NanoTube Version: 1.13.1 Command: /home/biocbuild/bbs-3.21-bioc/R/bin/R CMD build --keep-empty-dirs --no-resave-data NanoTube StartedAt: 2025-02-09 18:22:48 -0500 (Sun, 09 Feb 2025) EndedAt: 2025-02-09 18:23:29 -0500 (Sun, 09 Feb 2025) EllapsedTime: 40.0 seconds RetCode: 0 Status: OK PackageFile: NanoTube_1.13.1.tar.gz PackageFileSize: 1.996 MiB