Package: NanoTube Version: 1.13.1 Command: rm -rf NanoTube.buildbin-libdir && mkdir NanoTube.buildbin-libdir && E:\biocbuild\bbs-3.21-bioc\R\bin\R.exe CMD INSTALL --build --library=NanoTube.buildbin-libdir NanoTube_1.13.1.tar.gz StartedAt: 2025-02-10 08:16:15 -0500 (Mon, 10 Feb 2025) EndedAt: 2025-02-10 08:16:59 -0500 (Mon, 10 Feb 2025) EllapsedTime: 43.6 seconds RetCode: 0 Status: OK PackageFile: NanoTube_1.13.1.zip PackageFileSize: 1.9 MiB