Package: NanoTube Version: 1.13.1 Command: E:\biocbuild\bbs-3.21-bioc\R\bin\R.exe CMD check --no-multiarch --install=check:NanoTube.install-out.txt --library=E:\biocbuild\bbs-3.21-bioc\R\library --no-vignettes --timings NanoTube_1.13.1.tar.gz StartedAt: 2025-02-10 03:33:24 -0500 (Mon, 10 Feb 2025) EndedAt: 2025-02-10 03:37:07 -0500 (Mon, 10 Feb 2025) EllapsedTime: 223.0 seconds RetCode: 0 Status: OK CheckDir: NanoTube.Rcheck Warnings: 0