Package: Nebulosa Version: 1.17.0 Command: rm -rf Nebulosa.buildbin-libdir && mkdir Nebulosa.buildbin-libdir && /Users/biocbuild/BBS/utils/build-universal.sh Nebulosa_1.17.0.tar.gz /Library/Frameworks/R.framework/Resources/bin/R Nebulosa.buildbin-libdir StartedAt: 2025-02-09 22:23:28 -0500 (Sun, 09 Feb 2025) EndedAt: 2025-02-09 22:23:41 -0500 (Sun, 09 Feb 2025) EllapsedTime: 13.2 seconds RetCode: 0 Status: OK PackageFile: Nebulosa_1.17.0.tgz PackageFileSize: 3.717 MiB