Package: Nebulosa Version: 1.17.0 Command: /Library/Frameworks/R.framework/Resources/bin/R CMD check --install=check:Nebulosa.install-out.txt --library=/Library/Frameworks/R.framework/Resources/library --no-vignettes --timings Nebulosa_1.17.0.tar.gz StartedAt: 2025-02-09 20:25:10 -0500 (Sun, 09 Feb 2025) EndedAt: 2025-02-09 20:26:27 -0500 (Sun, 09 Feb 2025) EllapsedTime: 76.9 seconds RetCode: 0 Status: OK CheckDir: Nebulosa.Rcheck Warnings: 0