Package: Nebulosa Version: 1.17.0 Command: chmod a+r Nebulosa -R && E:\biocbuild\bbs-3.21-bioc\R\bin\R.exe CMD build --keep-empty-dirs --no-resave-data Nebulosa StartedAt: 2025-02-09 20:19:22 -0500 (Sun, 09 Feb 2025) EndedAt: 2025-02-09 20:23:50 -0500 (Sun, 09 Feb 2025) EllapsedTime: 268.3 seconds RetCode: 0 Status: OK PackageFile: Nebulosa_1.17.0.tar.gz PackageFileSize: 2.345 MiB