Package: NetActivity Version: 1.9.0 Command: rm -rf NetActivity.buildbin-libdir && mkdir NetActivity.buildbin-libdir && /Users/biocbuild/BBS/utils/build-universal.sh NetActivity_1.9.0.tar.gz /Library/Frameworks/R.framework/Resources/bin/R NetActivity.buildbin-libdir StartedAt: 2025-02-04 22:25:20 -0500 (Tue, 04 Feb 2025) EndedAt: 2025-02-04 22:25:31 -0500 (Tue, 04 Feb 2025) EllapsedTime: 11.2 seconds RetCode: 0 Status: OK PackageFile: NetActivity_1.9.0.tgz PackageFileSize: 447.6 KiB