Package: NetActivity Version: 1.9.0 Command: /Library/Frameworks/R.framework/Resources/bin/R CMD build --keep-empty-dirs --no-resave-data NetActivity StartedAt: 2025-02-04 17:07:15 -0500 (Tue, 04 Feb 2025) EndedAt: 2025-02-04 17:07:40 -0500 (Tue, 04 Feb 2025) EllapsedTime: 25.3 seconds RetCode: 0 Status: OK PackageFile: NetActivity_1.9.0.tar.gz PackageFileSize: 438.2 KiB