Package: NetActivity Version: 1.9.0 Command: /Library/Frameworks/R.framework/Resources/bin/R CMD INSTALL NetActivity StartedAt: 2025-02-09 15:08:11 -0500 (Sun, 09 Feb 2025) EndedAt: 2025-02-09 15:08:21 -0500 (Sun, 09 Feb 2025) EllapsedTime: 9.8 seconds RetCode: 0 Status: OK