Package: NetActivity Version: 1.9.0 Command: /home/biocbuild/R/R/bin/R CMD INSTALL NetActivity StartedAt: 2025-01-29 19:48:08 -0000 (Wed, 29 Jan 2025) EndedAt: 2025-01-29 19:48:41 -0000 (Wed, 29 Jan 2025) EllapsedTime: 32.5 seconds RetCode: 0 Status: OK