Package: NetActivity Version: 1.9.0 Command: rm -rf NetActivity.buildbin-libdir && mkdir NetActivity.buildbin-libdir && /Users/biocbuild/BBS/utils/build-universal.sh NetActivity_1.9.0.tar.gz /Library/Frameworks/R.framework/Resources/bin/R NetActivity.buildbin-libdir StartedAt: 2025-02-10 01:05:49 -0500 (Mon, 10 Feb 2025) EndedAt: 2025-02-10 01:06:25 -0500 (Mon, 10 Feb 2025) EllapsedTime: 35.8 seconds RetCode: 0 Status: OK PackageFile: NetActivity_1.9.0.tgz PackageFileSize: 446.8 KiB