Package: NetActivity Version: 1.9.0 Command: /home/biocbuild/bbs-3.21-bioc/R/bin/R CMD build --keep-empty-dirs --no-resave-data NetActivity StartedAt: 2025-02-09 18:23:31 -0500 (Sun, 09 Feb 2025) EndedAt: 2025-02-09 18:24:32 -0500 (Sun, 09 Feb 2025) EllapsedTime: 61.0 seconds RetCode: 0 Status: OK PackageFile: NetActivity_1.9.0.tar.gz PackageFileSize: 430.5 KiB