Package: NetSAM Version: 1.47.0 Command: /home/biocbuild/R/R/bin/R CMD build --keep-empty-dirs --no-resave-data NetSAM StartedAt: 2025-01-29 00:51:57 -0000 (Wed, 29 Jan 2025) EndedAt: 2025-01-29 00:52:35 -0000 (Wed, 29 Jan 2025) EllapsedTime: 38.0 seconds RetCode: 0 Status: OK PackageFile: NetSAM_1.47.0.tar.gz PackageFileSize: 1.023 MiB