Package: NetSAM Version: 1.47.0 Command: /home/biocbuild/R/R/bin/R CMD INSTALL NetSAM StartedAt: 2025-01-29 20:26:38 -0000 (Wed, 29 Jan 2025) EndedAt: 2025-01-29 20:27:09 -0000 (Wed, 29 Jan 2025) EllapsedTime: 31.6 seconds RetCode: 0 Status: OK