Package: NetSAM Version: 1.47.0 Command: /Library/Frameworks/R.framework/Resources/bin/R CMD check --install=check:NetSAM.install-out.txt --library=/Library/Frameworks/R.framework/Resources/library --no-vignettes --timings NetSAM_1.47.0.tar.gz StartedAt: 2025-02-09 22:20:15 -0500 (Sun, 09 Feb 2025) EndedAt: 2025-02-09 22:44:50 -0500 (Sun, 09 Feb 2025) EllapsedTime: 1475.6 seconds RetCode: 0 Status: OK CheckDir: NetSAM.Rcheck Warnings: 0