Package: NetSAM Version: 1.47.0 Command: /Library/Frameworks/R.framework/Resources/bin/R CMD INSTALL NetSAM StartedAt: 2025-02-04 15:37:37 -0500 (Tue, 04 Feb 2025) EndedAt: 2025-02-04 15:38:07 -0500 (Tue, 04 Feb 2025) EllapsedTime: 30.4 seconds RetCode: 0 Status: OK