Package: NetSAM Version: 1.47.0 Command: chmod a+r NetSAM -R && E:\biocbuild\bbs-3.21-bioc\R\bin\R.exe CMD build --keep-empty-dirs --no-resave-data NetSAM StartedAt: 2025-02-09 20:20:05 -0500 (Sun, 09 Feb 2025) EndedAt: 2025-02-09 20:20:57 -0500 (Sun, 09 Feb 2025) EllapsedTime: 51.3 seconds RetCode: 0 Status: OK PackageFile: NetSAM_1.47.0.tar.gz PackageFileSize: 1.035 MiB