Package: NetSAM Version: 1.47.0 Command: E:\biocbuild\bbs-3.21-bioc\R\bin\R.exe CMD check --no-multiarch --install=check:NetSAM.install-out.txt --library=E:\biocbuild\bbs-3.21-bioc\R\library --no-vignettes --timings NetSAM_1.47.0.tar.gz StartedAt: 2025-02-10 03:36:36 -0500 (Mon, 10 Feb 2025) EndedAt: 2025-02-10 04:00:55 -0500 (Mon, 10 Feb 2025) EllapsedTime: 1459.0 seconds RetCode: 0 Status: OK CheckDir: NetSAM.Rcheck Warnings: 0