Package: NeuCA Version: 1.13.0 Command: /Library/Frameworks/R.framework/Resources/bin/R CMD build --keep-empty-dirs --no-resave-data NeuCA StartedAt: 2025-02-12 17:07:26 -0500 (Wed, 12 Feb 2025) EndedAt: 2025-02-12 17:07:50 -0500 (Wed, 12 Feb 2025) EllapsedTime: 24.3 seconds RetCode: 1 Status: ERROR PackageFile: None PackageFileSize: NA