Package: NeuCA Version: 1.13.0 Command: /home/biocbuild/R/R/bin/R CMD INSTALL NeuCA StartedAt: 2025-01-29 20:04:38 -0000 (Wed, 29 Jan 2025) EndedAt: 2025-01-29 20:05:13 -0000 (Wed, 29 Jan 2025) EllapsedTime: 34.5 seconds RetCode: 0 Status: OK