Package: NeuCA Version: 1.13.0 Command: /Library/Frameworks/R.framework/Resources/bin/R CMD build --keep-empty-dirs --no-resave-data NeuCA StartedAt: 2025-02-12 17:38:15 -0500 (Wed, 12 Feb 2025) EndedAt: 2025-02-12 17:39:33 -0500 (Wed, 12 Feb 2025) EllapsedTime: 78.8 seconds RetCode: 1 Status: ERROR PackageFile: None PackageFileSize: NA