Package: NeuCA Version: 1.13.0 Command: /Library/Frameworks/R.framework/Resources/bin/R CMD check --install=check:NeuCA.install-out.txt --library=/Library/Frameworks/R.framework/Resources/library --no-vignettes --timings NeuCA_1.13.0.tar.gz StartedAt: 2024-11-25 00:22:56 -0500 (Mon, 25 Nov 2024) EndedAt: 2024-11-25 00:29:21 -0500 (Mon, 25 Nov 2024) EllapsedTime: 385.3 seconds RetCode: 0 Status: OK CheckDir: NeuCA.Rcheck Warnings: 0