Package: NeuCA Version: 1.13.0 Command: /home/biocbuild/bbs-3.21-bioc/R/bin/R CMD build --keep-empty-dirs --no-resave-data NeuCA StartedAt: 2025-02-09 18:25:14 -0500 (Sun, 09 Feb 2025) EndedAt: 2025-02-09 18:26:27 -0500 (Sun, 09 Feb 2025) EllapsedTime: 73.1 seconds RetCode: 1 Status: ERROR PackageFile: None PackageFileSize: NA