Package: NeuCA Version: 1.13.0 Command: /home/biocbuild/bbs-3.21-bioc/R/bin/R CMD INSTALL NeuCA StartedAt: 2025-02-09 15:23:41 -0500 (Sun, 09 Feb 2025) EndedAt: 2025-02-09 15:24:06 -0500 (Sun, 09 Feb 2025) EllapsedTime: 25.3 seconds RetCode: 0 Status: OK