Package: NeuCA Version: 1.13.0 Command: chmod a+r NeuCA -R && E:\biocbuild\bbs-3.21-bioc\R\bin\R.exe CMD build --keep-empty-dirs --no-resave-data NeuCA StartedAt: 2025-02-09 20:20:43 -0500 (Sun, 09 Feb 2025) EndedAt: 2025-02-09 20:24:38 -0500 (Sun, 09 Feb 2025) EllapsedTime: 235.1 seconds RetCode: 1 Status: ERROR PackageFile: None PackageFileSize: NA