Package: NoRCE Version: 1.19.0 Command: rm -rf NoRCE.buildbin-libdir && mkdir NoRCE.buildbin-libdir && /Users/biocbuild/BBS/utils/build-universal.sh NoRCE_1.19.0.tar.gz /Library/Frameworks/R.framework/Resources/bin/R NoRCE.buildbin-libdir StartedAt: 2025-02-04 22:25:33 -0500 (Tue, 04 Feb 2025) EndedAt: 2025-02-04 22:25:51 -0500 (Tue, 04 Feb 2025) EllapsedTime: 17.3 seconds RetCode: 0 Status: OK PackageFile: NoRCE_1.19.0.tgz PackageFileSize: 2.384 MiB