Package: NoRCE Version: 1.19.0 Command: /Library/Frameworks/R.framework/Resources/bin/R CMD check --install=check:NoRCE.install-out.txt --library=/Library/Frameworks/R.framework/Resources/library --no-vignettes --timings NoRCE_1.19.0.tar.gz StartedAt: 2025-02-09 22:21:25 -0500 (Sun, 09 Feb 2025) EndedAt: 2025-02-09 22:26:35 -0500 (Sun, 09 Feb 2025) EllapsedTime: 310.1 seconds RetCode: 0 Status: OK CheckDir: NoRCE.Rcheck Warnings: 0