Package: NoRCE Version: 1.19.0 Command: /home/biocbuild/bbs-3.21-bioc/R/bin/R CMD build --keep-empty-dirs --no-resave-data NoRCE StartedAt: 2025-02-09 18:26:48 -0500 (Sun, 09 Feb 2025) EndedAt: 2025-02-09 18:27:54 -0500 (Sun, 09 Feb 2025) EllapsedTime: 66.2 seconds RetCode: 0 Status: OK PackageFile: NoRCE_1.19.0.tar.gz PackageFileSize: 2.025 MiB