Package: NoRCE Version: 1.19.0 Command: rm -rf NoRCE.buildbin-libdir && mkdir NoRCE.buildbin-libdir && E:\biocbuild\bbs-3.21-bioc\R\bin\R.exe CMD INSTALL --build --library=NoRCE.buildbin-libdir NoRCE_1.19.0.tar.gz StartedAt: 2025-02-05 08:29:17 -0500 (Wed, 05 Feb 2025) EndedAt: 2025-02-05 08:30:20 -0500 (Wed, 05 Feb 2025) EllapsedTime: 63.1 seconds RetCode: 0 Status: OK PackageFile: NoRCE_1.19.0.zip PackageFileSize: 2.382 MiB