Package: NormalyzerDE Version: 1.25.0 Command: /Library/Frameworks/R.framework/Resources/bin/R CMD INSTALL NormalyzerDE StartedAt: 2025-02-09 15:20:05 -0500 (Sun, 09 Feb 2025) EndedAt: 2025-02-09 15:20:14 -0500 (Sun, 09 Feb 2025) EllapsedTime: 8.7 seconds RetCode: 0 Status: OK