Package: NormalyzerDE Version: 1.25.0 Command: /Library/Frameworks/R.framework/Resources/bin/R CMD INSTALL NormalyzerDE StartedAt: 2025-02-09 15:32:13 -0500 (Sun, 09 Feb 2025) EndedAt: 2025-02-09 15:32:45 -0500 (Sun, 09 Feb 2025) EllapsedTime: 32.6 seconds RetCode: 0 Status: OK