Package: NormalyzerDE Version: 1.25.0 Command: /home/biocbuild/bbs-3.21-bioc/R/bin/R CMD build --keep-empty-dirs --no-resave-data NormalyzerDE StartedAt: 2025-02-09 18:26:59 -0500 (Sun, 09 Feb 2025) EndedAt: 2025-02-09 18:28:28 -0500 (Sun, 09 Feb 2025) EllapsedTime: 89.2 seconds RetCode: 0 Status: OK PackageFile: NormalyzerDE_1.25.0.tar.gz PackageFileSize: 1.112 MiB