Package: OCplus Version: 1.81.0 Maintainer: Alexander Ploner MaintainerEmail: Alexander.Ploner at ki.se git_url: https://git.bioconductor.org/packages/OCplus git_branch: devel git_last_commit: 530dc28 git_last_commit_date: 2024-10-29 09:26:04 -0500 (Tue, 29 Oct 2024)