Package: OCplus Version: 1.81.0 Command: /Library/Frameworks/R.framework/Resources/bin/R CMD build --keep-empty-dirs --no-resave-data OCplus StartedAt: 2025-02-09 17:08:51 -0500 (Sun, 09 Feb 2025) EndedAt: 2025-02-09 17:09:03 -0500 (Sun, 09 Feb 2025) EllapsedTime: 12.2 seconds RetCode: 0 Status: OK PackageFile: OCplus_1.81.0.tar.gz PackageFileSize: 9.586 MiB