Package: OCplus Version: 1.81.0 Command: /home/biocbuild/bbs-3.21-bioc/R/bin/R CMD build --keep-empty-dirs --no-resave-data OCplus StartedAt: 2025-02-09 18:27:56 -0500 (Sun, 09 Feb 2025) EndedAt: 2025-02-09 18:28:20 -0500 (Sun, 09 Feb 2025) EllapsedTime: 24.0 seconds RetCode: 0 Status: OK PackageFile: OCplus_1.81.0.tar.gz PackageFileSize: 9.586 MiB