Package: OCplus Version: 1.81.0 Command: chmod a+r OCplus -R && E:\biocbuild\bbs-3.21-bioc\R\bin\R.exe CMD build --keep-empty-dirs --no-resave-data OCplus StartedAt: 2025-02-09 20:23:39 -0500 (Sun, 09 Feb 2025) EndedAt: 2025-02-09 20:24:20 -0500 (Sun, 09 Feb 2025) EllapsedTime: 40.3 seconds RetCode: 0 Status: OK PackageFile: OCplus_1.81.0.tar.gz PackageFileSize: 9.587 MiB