Package: OCplus Version: 1.81.0 Command: E:\biocbuild\bbs-3.21-bioc\R\bin\R.exe CMD check --no-multiarch --install=check:OCplus.install-out.txt --library=E:\biocbuild\bbs-3.21-bioc\R\library --no-vignettes --timings OCplus_1.81.0.tar.gz StartedAt: 2025-02-13 03:51:55 -0500 (Thu, 13 Feb 2025) EndedAt: 2025-02-13 03:53:21 -0500 (Thu, 13 Feb 2025) EllapsedTime: 86.3 seconds RetCode: 0 Status: OK CheckDir: OCplus.Rcheck Warnings: 0