Package: OGRE Version: 1.11.0 Command: rm -rf OGRE.buildbin-libdir && mkdir OGRE.buildbin-libdir && /Users/biocbuild/BBS/utils/build-universal.sh OGRE_1.11.0.tar.gz /Library/Frameworks/R.framework/Resources/bin/R OGRE.buildbin-libdir StartedAt: 2025-02-09 22:24:00 -0500 (Sun, 09 Feb 2025) EndedAt: 2025-02-09 22:24:22 -0500 (Sun, 09 Feb 2025) EllapsedTime: 22.5 seconds RetCode: 0 Status: OK PackageFile: OGRE_1.11.0.tgz PackageFileSize: 1.255 MiB