Package: OGRE Version: 1.11.0 Command: /Library/Frameworks/R.framework/Resources/bin/R CMD build --keep-empty-dirs --no-resave-data OGRE StartedAt: 2025-02-09 17:08:56 -0500 (Sun, 09 Feb 2025) EndedAt: 2025-02-09 17:09:44 -0500 (Sun, 09 Feb 2025) EllapsedTime: 48.6 seconds RetCode: 0 Status: OK PackageFile: OGRE_1.11.0.tar.gz PackageFileSize: 1.73 MiB