Package: OGRE Version: 1.11.0 Command: /home/biocbuild/R/R/bin/R CMD INSTALL OGRE StartedAt: 2025-01-29 20:10:06 -0000 (Wed, 29 Jan 2025) EndedAt: 2025-01-29 20:11:18 -0000 (Wed, 29 Jan 2025) EllapsedTime: 71.9 seconds RetCode: 0 Status: OK